BEGIN:VCALENDAR
VERSION:2.0
PRODID:-//empfängnis.com - ECPv4.6.2//NONSGML v1.0//EN
CALSCALE:GREGORIAN
METHOD:PUBLISH
X-WR-CALNAME:empfängnis.com
X-ORIGINAL-URL:http://www.xn--empfngnis-y2a.com
X-WR-CALDESC:Events for empfängnis.com
BEGIN:VEVENT
DTSTART;TZID=Europe/Berlin:20180701T093000
DTEND;TZID=Europe/Berlin:20180701T160000
DTSTAMP:20260421T091324
CREATED:20180612T151825Z
LAST-MODIFIED:20180612T151825Z
UID:2156-1530437400-1530460800@www.xn--empfngnis-y2a.com
SUMMARY:Familiensonntag in Blindenmarkt
DESCRIPTION:\n Juli Familiensonntag in Blindenmarkt m. Ehepaar Reithofer\, ca. 13.45 Uhr\n\n„Ehe – Gottes Projekt für Mutige“ (Eingeladen sind auch noch nicht verheiratete Paare!) \nTagesprogramm auf: http://familie.dsp.at \n
URL:http://www.xn--empfngnis-y2a.com/veranstaltung/familiensonntag-in-blindenmarkt/
LOCATION:Auhofstrasse 22\, Blindenmarkt\, Niederösterreich
GEO:48.1231492;14.9891888
X-APPLE-STRUCTURED-LOCATION;VALUE=URI;X-ADDRESS=Auhofstrasse 22 Blindenmarkt Niederösterreich;X-APPLE-RADIUS=500;X-TITLE=Auhofstrasse 22:geo:14.9891888,48.1231492
END:VEVENT
END:VCALENDAR