BEGIN:VCALENDAR
VERSION:2.0
PRODID:-//empfängnis.com - ECPv4.6.2//NONSGML v1.0//EN
CALSCALE:GREGORIAN
METHOD:PUBLISH
X-WR-CALNAME:empfängnis.com
X-ORIGINAL-URL:http://www.xn--empfngnis-y2a.com
X-WR-CALDESC:Events for empfängnis.com
BEGIN:VEVENT
DTSTART;TZID=Europe/Berlin:20170916T133000
DTEND;TZID=Europe/Berlin:20170916T193000
DTSTAMP:20260421T072440
CREATED:20170920T081327Z
LAST-MODIFIED:20170920T081327Z
UID:1913-1505568600-1505590200@www.xn--empfngnis-y2a.com
SUMMARY:Familiennachmittag ICF in Mödling
DESCRIPTION:16.09.2017 • 13:30 – 19:30 • Husarentempelgasse 4\, 2340 Mödling \nneue Familien sind herzlich willkommen! \nEintreffen bei Kaffee und Kuchen\, Hl. Messe\, Vortrag\, Kinderprogramm nach Altersgruppen\, Austauschgruppen\, Abendessen; \nweitere Termine: 09.6. 2018 (Grillfest) ! dazwischen monatliche Termine für jene Familien\, die verbindlich dabei sein möchten! \nInfo bzw. Anmeldung:\nimmaculata@aon.at \n
URL:http://www.xn--empfngnis-y2a.com/veranstaltung/familiennachmittag-icf-in-moedling/
LOCATION:Husarentempelgasse 4\, Mödling\, 2340\, Österreich
GEO:48.0809428;16.2599794
X-APPLE-STRUCTURED-LOCATION;VALUE=URI;X-ADDRESS=Husarentempelgasse 4 Mödling 2340 Österreich;X-APPLE-RADIUS=500;X-TITLE=Husarentempelgasse 4:geo:16.2599794,48.0809428
END:VEVENT
END:VCALENDAR