BEGIN:VCALENDAR
VERSION:2.0
PRODID:-//empfängnis.com - ECPv4.6.2//NONSGML v1.0//EN
CALSCALE:GREGORIAN
METHOD:PUBLISH
X-WR-CALNAME:empfängnis.com
X-ORIGINAL-URL:http://www.xn--empfngnis-y2a.com
X-WR-CALDESC:Events for empfängnis.com
BEGIN:VEVENT
DTSTART;TZID=Europe/Berlin:20180609T133000
DTEND;TZID=Europe/Berlin:20180609T193000
DTSTAMP:20260421T054506
CREATED:20170920T081406Z
LAST-MODIFIED:20170920T081600Z
UID:1916-1528551000-1528572600@www.xn--empfngnis-y2a.com
SUMMARY:Familiennachmittag ICF in Mödling
DESCRIPTION:9.6.2018 • 13:30 – 19:30 • Husarentempelgasse 4\, 2340 Mödling \nneue Familien sind herzlich willkommen! \nEintreffen bei Kaffee und Kuchen\, Hl. Messe\, Vortrag\, Kinderprogramm nach Altersgruppen\, Austauschgruppen\, Abendessen: Grillfest!! \n\nInfo bzw. Anmeldung:\nimmaculata@aon.at \n
URL:http://www.xn--empfngnis-y2a.com/veranstaltung/familiennachmittag-icf-in-moedling-copy/
LOCATION:Husarentempelgasse 4\, Mödling\, 2340\, Österreich
GEO:48.0809428;16.2599794
X-APPLE-STRUCTURED-LOCATION;VALUE=URI;X-ADDRESS=Husarentempelgasse 4 Mödling 2340 Österreich;X-APPLE-RADIUS=500;X-TITLE=Husarentempelgasse 4:geo:16.2599794,48.0809428
END:VEVENT
END:VCALENDAR