BEGIN:VCALENDAR
VERSION:2.0
PRODID:-//empfängnis.com - ECPv4.6.2//NONSGML v1.0//EN
CALSCALE:GREGORIAN
METHOD:PUBLISH
X-WR-CALNAME:empfängnis.com
X-ORIGINAL-URL:http://www.xn--empfngnis-y2a.com
X-WR-CALDESC:Events for empfängnis.com
BEGIN:VEVENT
DTSTART;TZID=Europe/Berlin:20180919T080000
DTEND;TZID=Europe/Berlin:20180919T170000
DTSTAMP:20260421T052445
CREATED:20180919T120656Z
LAST-MODIFIED:20180919T120656Z
UID:2201-1537344000-1537376400@www.xn--empfngnis-y2a.com
SUMMARY:Familienmanagement Freshup
DESCRIPTION:Wie holen wir die Väter zurück? Familienmanagement FreshUp \n\nSeptember 2018\, 9.00 bis 11.30 Uhr\, St. Pölten; Anmeldung a.hiesinger@kirche.at\n\n
URL:http://www.xn--empfngnis-y2a.com/veranstaltung/familienmanagement-freshup/
LOCATION:Klostergasse 15\, St. Pölten\, 3100\, Österreich
GEO:48.2067871;15.6265436
X-APPLE-STRUCTURED-LOCATION;VALUE=URI;X-ADDRESS=Klostergasse 15 St. Pölten 3100 Österreich;X-APPLE-RADIUS=500;X-TITLE=Klostergasse 15:geo:15.6265436,48.2067871
END:VEVENT
END:VCALENDAR