BEGIN:VCALENDAR
VERSION:2.0
PRODID:-//empfängnis.com - ECPv4.6.2//NONSGML v1.0//EN
CALSCALE:GREGORIAN
METHOD:PUBLISH
X-WR-CALNAME:empfängnis.com
X-ORIGINAL-URL:http://www.xn--empfngnis-y2a.com
X-WR-CALDESC:Events for empfängnis.com
BEGIN:VEVENT
DTSTART;TZID=Europe/Berlin:20190401T083000
DTEND;TZID=Europe/Berlin:20190401T120000
DTSTAMP:20260420T202838
CREATED:20190226T082837Z
LAST-MODIFIED:20190226T082932Z
UID:2410-1554107400-1554120000@www.xn--empfngnis-y2a.com
SUMMARY:Familienmanagement  2
DESCRIPTION:Adnet/Salzburg (FamilienManagement-Kurs 62) \n\n4. März\, 1. April\, 27. Mai\, 17. Juni 2019\njeweils Montag\, 8.45 – 12.00 Uhr \nKursort: 5421 Adnet\, Adnet 10\, Pfarrsaal\nAnsprechperson vor Ort: Manuela Fletschberger\, Tel. 0664 /41 22 617 \nEine Veranstaltung des Referates für Ehe und Familie der Erzdiözese Salzburg.\nAnmeldung unter: Referat für Ehe und Familie oder 0662 8796 13-13 oder info@ehefamiliebuch.at \n\n
URL:http://www.xn--empfngnis-y2a.com/veranstaltung/familienmanagement-copy/
LOCATION:Adnet 10\, Adnet\, 5421\, Österreich
END:VEVENT
END:VCALENDAR