BEGIN:VCALENDAR
VERSION:2.0
PRODID:-//empfängnis.com - ECPv4.6.2//NONSGML v1.0//EN
CALSCALE:GREGORIAN
METHOD:PUBLISH
X-WR-CALNAME:empfängnis.com
X-ORIGINAL-URL:http://www.xn--empfngnis-y2a.com
X-WR-CALDESC:Events for empfängnis.com
BEGIN:VEVENT
DTSTART;TZID=Europe/Berlin:20190914T090000
DTEND;TZID=Europe/Berlin:20190914T173000
DTSTAMP:20260420T112351
CREATED:20190709T184751Z
LAST-MODIFIED:20190709T184751Z
UID:2471-1568451600-1568482200@www.xn--empfngnis-y2a.com
SUMMARY:FAMILIENMANAGEMENT
DESCRIPTION:\nFAMILIENMANAGEMENT\n\nSimple Lösungen und bewährte Strategien – für den ganz normalen Wahnsinn\nSamstag\, 14. September 2019 – 9:00 bis 13:30 \n\n\n\nStartveranstaltung\nFolgetermine: 5. Oktober und 16. November 2019\nDas Leben in einer Familie ist voller Überraschungen. Immer wieder wird unser Tagesablauf auf den Kopf gestellt. Lernen Sie Ihr Unternehmen „Familie“ erfolgreich zu organisieren\, damit Sie alles schaffen\, was Sie schaffen wollen. \nAchtung\, begrenzte Teilnehmerzahl!\nKinderbetreuung vor Ort: Bei Anmeldung bitte Alter und Anzahl der Kinder bekanntgeben!\n\n\nKosten:\n\nfür 3 Termine: € 190\,00 (pro Person) oder € 290 (pro Paar)\n\n\n\nReferentin :\n\nMaria Büchsenmeister\, Verlag eheFamilieBuch\, ausgebildete Familientrainerin\, Mutter von 12 Kindern\n\n\n\nLeitung:\n\nAnmeldung und Information: www.ehefamiliebuch.at\n\n\n\nVeranstaltungsart:\n\nSeminar\, Kurs\, Workshop\n\n\n\nVeranstalter:\n\nDiözese St. Pölten\, Fachstelle Beziehung-Ehe-Familie in Kooperation mit meinefamilie.at\n\n\n\nZielgruppen:\n\nAlle Interessierten; Familien\n\n\n\n\n\n\n\n
URL:http://www.xn--empfngnis-y2a.com/veranstaltung/familienmanagement-2/
LOCATION:Klostergasse 15\, Sankt Pölten\, 3100\, Österreich
GEO:48.2067871;15.6265436
X-APPLE-STRUCTURED-LOCATION;VALUE=URI;X-ADDRESS=Klostergasse 15 Sankt Pölten 3100 Österreich;X-APPLE-RADIUS=500;X-TITLE=Klostergasse 15:geo:15.6265436,48.2067871
END:VEVENT
END:VCALENDAR