BEGIN:VCALENDAR
VERSION:2.0
PRODID:-//empfängnis.com - ECPv4.6.2//NONSGML v1.0//EN
CALSCALE:GREGORIAN
METHOD:PUBLISH
X-WR-CALNAME:empfängnis.com
X-ORIGINAL-URL:http://www.xn--empfngnis-y2a.com
X-WR-CALDESC:Events for empfängnis.com
BEGIN:VEVENT
DTSTART;VALUE=DATE:20181024
DTEND;VALUE=DATE:20181029
DTSTAMP:20260421T054507
CREATED:20180929T203705Z
LAST-MODIFIED:20180929T203705Z
UID:2305-1540339200-1540771199@www.xn--empfngnis-y2a.com
SUMMARY:Es ist Zeit für ein Gespräch
DESCRIPTION: Seminar für befreundete Paare\, Braut- und Ehepaare\n\nMittwoch\, 24.10.2018 18:00 Uhr bis Sonntag\, 28.10.2018 13:00 Uhr \nOrt: Exerzitienhaus Michaelbeuern\, Michaelbeuern 1\, 5152 Michaelbeuern \nVeranstalter: Referat für Ehe und Familie \n\n\nUm das Große im Anderen zu entdecken\, ist das Gespräch das ideale Mittel. E ist der Weg in Herz des anderen\, um wirklich das DU zu entdecken. \n\n\nDie Ehe funktioniert nicht im „Selbstlauf“. Wir können etwas dazu tun\, damit die Liebe gelingt. Um das Große im anderen zu entdecken ist das Gespräch das ideale Mittel. \nEin besonderes Instrument dieses Seminars ist die so genannte Taylor – Johnson – Temperamentanalyse\, eine Form der Selbstbeschreibung sowie die Beschreibung des Partners. In Gesprächen mit einem Begleitehepaar eröffnet sich damit die Möglichkeit\, sich selbst und den Partner besser zu verstehen. Weitere Kurselemente\, Perogrammpunkte und Angebote sind: Vorträge\, Zeit für das Gespräch zu zweit\, Hl. Messe\, Gebet und die Möglichkeit\, die Beziehung zu vertiefen und zu erneuern. \nNähere Informationen entnehmen Sie bitte dem Flyer \nAnmeldung / Information:\nMag. Kurt Reinbacher\nTelefon: 0676 513 47 67\ne-mail: kurt.reinbacher@familie.kirchen.net \n\n\n
URL:http://www.xn--empfngnis-y2a.com/veranstaltung/es-ist-zeit-fuer-ein-gespraech-2/
LOCATION:Michaelbeuern 1\, Michaelbeuern\, 5152\, Österreich
GEO:48.0207774;13.0298472
X-APPLE-STRUCTURED-LOCATION;VALUE=URI;X-ADDRESS=Michaelbeuern 1 Michaelbeuern 5152 Österreich;X-APPLE-RADIUS=500;X-TITLE=Michaelbeuern 1:geo:13.0298472,48.0207774
END:VEVENT
END:VCALENDAR