BEGIN:VCALENDAR
VERSION:2.0
PRODID:-//empfängnis.com - ECPv4.6.2//NONSGML v1.0//EN
CALSCALE:GREGORIAN
METHOD:PUBLISH
X-WR-CALNAME:empfängnis.com
X-ORIGINAL-URL:http://www.xn--empfngnis-y2a.com
X-WR-CALDESC:Events for empfängnis.com
BEGIN:VEVENT
DTSTART;TZID=Europe/Berlin:20210118T200000
DTEND;TZID=Europe/Berlin:20210118T210000
DTSTAMP:20260420T001506
CREATED:20201008T200208Z
LAST-MODIFIED:20210107T155554Z
UID:2678-1611000000-1611003600@www.xn--empfngnis-y2a.com
SUMMARY:Erzähl mir von der Liebe!
DESCRIPTION:Erzähl mir\nvon der Liebe! \nAchtung! Aufgrund der Corona-Situation nur online. \nSexualerziehung vom\nKleinkindalter bis in\ndie Vorpubertät.\nSt. Paulus-Stiftung der Erzdiözese Wien für Medienarbeit\nBesser ein\nJahr zu früh\,\nals eine Sekunde\nzu spät…\nReferenten:\nMaria & Richard\nBüchsenmeister\nAusgebildete Familientrainer\, Eltern von\n12 Kindern\n18. 1. 2021\n19:00 Uhr\nFür Eltern\, Pädagogen\,\nSeelsorger\, Erzieher …\n€ 10\,00\np. Person\,\n€ 15\,00\np. Paar.\nOrt: nur online möglich!!!\nAnmeldung bei Angela Hiesinger: a.hiesinger@kirche.at oder 02742 324 3339 \n
URL:http://www.xn--empfngnis-y2a.com/veranstaltung/erzaehl-mir-von-der-liebe-2/
LOCATION:Millenniumsplatz 2\, Neuhofen/ Ybbs\, 3364\, Österreich
END:VEVENT
END:VCALENDAR