BEGIN:VCALENDAR
VERSION:2.0
PRODID:-//empfängnis.com - ECPv4.6.2//NONSGML v1.0//EN
CALSCALE:GREGORIAN
METHOD:PUBLISH
X-WR-CALNAME:empfängnis.com
X-ORIGINAL-URL:http://www.xn--empfngnis-y2a.com
X-WR-CALDESC:Events for empfängnis.com
BEGIN:VEVENT
DTSTART;TZID=Europe/Berlin:20210622T183000
DTEND;TZID=Europe/Berlin:20210622T210000
DTSTAMP:20260419T204803
CREATED:20210517T075141Z
LAST-MODIFIED:20210517T075240Z
UID:2752-1624386600-1624395600@www.xn--empfngnis-y2a.com
SUMMARY:Einfach genial –  sympto-thermal: online
DESCRIPTION:Einfach genial –\nsympto-thermal\nEine echte Alternative\nzu „Pille\, Spirale & Co“ \nOnline über\nZoom\, Link\nwird zeitnah\nübermittelt! \nDienstag\n8. 6. &\n22. 6. 2021\n18:30–21:00 Uhr \nFachstelle Beziehung-Ehe-Familie\, 3100 St. Pölten\, Klostergasse 15\nInformation & Anmeldung: Angela Hiesinger\nTel.: 02742 324 33 39 E-Mail: a.hiesinger@kirche.at \nPartnerschaftlich\, gesund und sicher\,\nnebenwirkungsfrei\, umweltbewahrend\n& einfach in der Anwendung.\nWas ist Natürliche Empfängnisregelung?\nNatürliche Empfängnisregelung (sympto-thermale Methode nach Prof. Dr.\nJosef Rötzer) ist ein Weg\, der es erlaubt eine Schwangerschaft anzustreben\noder sicher zu vermeiden. NER beruht auf der wissenschaftlichen Tatsache\, dass im Zyklus der Frau die meisten Tage unfruchtbar sind. NER kann\nim gesamten fruchtbaren Leben der Frau angewendet werden:\n• Bei regelmäßigen Zyklen\n• Bei unregelmäßigen Zyklen\n• Bei Nachtschicht\n• In der Stillzeit\n• In den Wechseljahren\nKosten:\n60€/Person & 65€/Paar\n45€ für Studentinnen und Studenten\nKosten inkl. Buch und Kursunterlagen \nReferentin:\nDr.in Barbara M. Sauberer\nBiologin\, zertifizierte\nINER-Mitarbeiterin\nGefördert aus den Mitteln des Kirchenbeitrages. \n
URL:http://www.xn--empfngnis-y2a.com/veranstaltung/einfach-genial-sympto-thermal-online-copy/
LOCATION:Klostergasse 15\, Sankt Pölten\, 3100\, Österreich
GEO:48.2067871;15.6265436
X-APPLE-STRUCTURED-LOCATION;VALUE=URI;X-ADDRESS=Klostergasse 15 Sankt Pölten 3100 Österreich;X-APPLE-RADIUS=500;X-TITLE=Klostergasse 15:geo:15.6265436,48.2067871
END:VEVENT
END:VCALENDAR