BEGIN:VCALENDAR
VERSION:2.0
PRODID:-//empfängnis.com - ECPv4.6.2//NONSGML v1.0//EN
CALSCALE:GREGORIAN
METHOD:PUBLISH
X-WR-CALNAME:empfängnis.com
X-ORIGINAL-URL:http://www.xn--empfngnis-y2a.com
X-WR-CALDESC:Events for empfängnis.com
BEGIN:VEVENT
DTSTART;TZID=Europe/Berlin:20170306T190000
DTEND;TZID=Europe/Berlin:20170306T220000
DTSTAMP:20260421T171329
CREATED:20161204T153736Z
LAST-MODIFIED:20161204T154204Z
UID:1272-1488826800-1488837600@www.xn--empfngnis-y2a.com
SUMMARY:Einfach genial - sympto-thermal GRUNDKURS DER NATÜRLICHEN EMPFÄNGNISREGELUNG (NER)
DESCRIPTION:
URL:http://www.xn--empfngnis-y2a.com/veranstaltung/einfach-genial-sympto-thermal-grundkurs-der-natuerlichen-empfaengnisregelung-ner/
LOCATION:Untere Traisenlände 2\, Traismauer\, 3133\, Österreich
GEO:48.3529098;15.7439748
X-APPLE-STRUCTURED-LOCATION;VALUE=URI;X-ADDRESS=Untere Traisenlände 2 Traismauer 3133 Österreich;X-APPLE-RADIUS=500;X-TITLE=Untere Traisenlände 2:geo:15.7439748,48.3529098
END:VEVENT
END:VCALENDAR