BEGIN:VCALENDAR
VERSION:2.0
PRODID:-//empfängnis.com - ECPv4.6.2//NONSGML v1.0//EN
CALSCALE:GREGORIAN
METHOD:PUBLISH
X-WR-CALNAME:empfängnis.com
X-ORIGINAL-URL:http://www.xn--empfngnis-y2a.com
X-WR-CALDESC:Events for empfängnis.com
BEGIN:VEVENT
DTSTART;TZID=Europe/Berlin:20161112T093000
DTEND;TZID=Europe/Berlin:20161112T180000
DTSTAMP:20260421T223158
CREATED:20161031T181848Z
LAST-MODIFIED:20161031T181848Z
UID:1206-1478943000-1478973600@www.xn--empfngnis-y2a.com
SUMMARY:Einfach genial - sympto-thermal GRUNDKURS DER NATÜRLICHEN EMPFÄNGNISREGELUNG als Tageskurs!!!
DESCRIPTION:
URL:http://www.xn--empfngnis-y2a.com/veranstaltung/einfach-genial-sympto-thermal-grundkurs-der-natuerlichen-empfaengnisregelung-als-tageskurs-2/
LOCATION:Klostergasse 15\, St. Pölten\, 3100\, Österreich
GEO:48.2067871;15.6265436
X-APPLE-STRUCTURED-LOCATION;VALUE=URI;X-ADDRESS=Klostergasse 15 St. Pölten 3100 Österreich;X-APPLE-RADIUS=500;X-TITLE=Klostergasse 15:geo:15.6265436,48.2067871
END:VEVENT
END:VCALENDAR