BEGIN:VCALENDAR
VERSION:2.0
PRODID:-//empfängnis.com - ECPv4.6.2//NONSGML v1.0//EN
CALSCALE:GREGORIAN
METHOD:PUBLISH
X-WR-CALNAME:empfängnis.com
X-ORIGINAL-URL:http://www.xn--empfngnis-y2a.com
X-WR-CALDESC:Events for empfängnis.com
BEGIN:VEVENT
DTSTART;TZID=Europe/Berlin:20170518T190000
DTEND;TZID=Europe/Berlin:20170518T210000
DTSTAMP:20260421T171431
CREATED:20170307T152309Z
LAST-MODIFIED:20170404T102139Z
UID:1607-1495134000-1495141200@www.xn--empfngnis-y2a.com
SUMMARY:Einfach genial - sympto-thermal GRUNDKURS DER NATÜRLICHEN EMPFÄNGNISREGELUNG
DESCRIPTION:Grundkurs in 3 Teilen\nTermine\nG1 – Donnerstag\, 04.05.2017\, 19:00 – 21:00\nG2 – Dienstag\, 09.05.2017\, 19:00 – 21:00\nG3 – Donnerstag\, 18.05.2017\, 19:00 – 21:00\nAdresse	3372 Blindenmarkt\, Hauptstraße 11\, Pfarrheim\nVeranstalter	Fachstelle Beziehung-Ehe-Familie St. Pölten\nAuskunft	Angela Hiesinger\nTelefon	02742/324/3339\nE-Mail	a.hiesinger@kirche.at\nReferent(en)	Rafaela Latschbacher B.Sc.\nBesonderes	Anmeldung erforderlich!\nKursbeitrag € 60\,- p.Person\, € 65\,- p. Paar inkl. Kursunterlagen und Buch! Ermäßigung f. Schülerinnen und Studentinnen € 45\,- \n
URL:http://www.xn--empfngnis-y2a.com/veranstaltung/einfach-genial-sympto-thermal-grundkurs-der-natuerlichen-empfaengnisregelung-8/
LOCATION:Hauptstraße 11\, Pfarrheim Blindenmarkt\, Österreich
GEO:48.1283023;14.990526
X-APPLE-STRUCTURED-LOCATION;VALUE=URI;X-ADDRESS=Hauptstraße 11 Pfarrheim Blindenmarkt Österreich;X-APPLE-RADIUS=500;X-TITLE=Hauptstraße 11:geo:14.990526,48.1283023
END:VEVENT
END:VCALENDAR