BEGIN:VCALENDAR
VERSION:2.0
PRODID:-//empfängnis.com - ECPv4.6.2//NONSGML v1.0//EN
CALSCALE:GREGORIAN
METHOD:PUBLISH
X-WR-CALNAME:empfängnis.com
X-ORIGINAL-URL:http://www.xn--empfngnis-y2a.com
X-WR-CALDESC:Events for empfängnis.com
BEGIN:VEVENT
DTSTART;TZID=Europe/Berlin:20170509T190000
DTEND;TZID=Europe/Berlin:20170509T210000
DTSTAMP:20260423T102419
CREATED:20170404T100946Z
LAST-MODIFIED:20170404T101859Z
UID:1678-1494356400-1494363600@www.xn--empfngnis-y2a.com
SUMMARY:Einfach genial - sympto-thermal GRUNDKURS DER NATÜRLICHEN EMPFÄNGNISREGELUNG Kopieren
DESCRIPTION:
URL:http://www.xn--empfngnis-y2a.com/veranstaltung/einfach-genial-sympto-thermal-grundkurs-der-natuerlichen-empfaengnisregelung-8-copy/
LOCATION:Hauptstraße 11\, Pfarrheim Blindenmarkt\, Österreich
GEO:48.1283023;14.990526
X-APPLE-STRUCTURED-LOCATION;VALUE=URI;X-ADDRESS=Hauptstraße 11 Pfarrheim Blindenmarkt Österreich;X-APPLE-RADIUS=500;X-TITLE=Hauptstraße 11:geo:14.990526,48.1283023
END:VEVENT
END:VCALENDAR