BEGIN:VCALENDAR
VERSION:2.0
PRODID:-//empfängnis.com - ECPv4.6.2//NONSGML v1.0//EN
CALSCALE:GREGORIAN
METHOD:PUBLISH
X-WR-CALNAME:empfängnis.com
X-ORIGINAL-URL:http://www.xn--empfngnis-y2a.com
X-WR-CALDESC:Events for empfängnis.com
BEGIN:VEVENT
DTSTART;TZID=Europe/Berlin:20161005T193000
DTEND;TZID=Europe/Berlin:20161005T210000
DTSTAMP:20260422T050607
CREATED:20160929T143416Z
LAST-MODIFIED:20160929T143416Z
UID:1112-1475695800-1475701200@www.xn--empfngnis-y2a.com
SUMMARY:Einfach genial - sympto-thermal GRUNDKURS DER NATÜRLICHEN EMPFÄNGNISREGELUNG
DESCRIPTION:
URL:http://www.xn--empfngnis-y2a.com/veranstaltung/einfach-genial-sympto-thermal-grundkurs-der-natuerlichen-empfaengnisregelung-5/
LOCATION:Kirchenplatz 1\, Ruprechtshofen\, 3244\, Österreich
GEO:48.1346256;15.2775995
X-APPLE-STRUCTURED-LOCATION;VALUE=URI;X-ADDRESS=Kirchenplatz 1 Ruprechtshofen 3244 Österreich;X-APPLE-RADIUS=500;X-TITLE=Kirchenplatz 1:geo:15.2775995,48.1346256
END:VEVENT
END:VCALENDAR