BEGIN:VCALENDAR
VERSION:2.0
PRODID:-//empfängnis.com - ECPv4.6.2//NONSGML v1.0//EN
CALSCALE:GREGORIAN
METHOD:PUBLISH
X-WR-CALNAME:empfängnis.com
X-ORIGINAL-URL:http://www.xn--empfngnis-y2a.com
X-WR-CALDESC:Events for empfängnis.com
BEGIN:VEVENT
DTSTART;TZID=Europe/Berlin:20161107T190000
DTEND;TZID=Europe/Berlin:20161107T210000
DTSTAMP:20260422T014537
CREATED:20160929T143043Z
LAST-MODIFIED:20160929T143043Z
UID:1109-1478545200-1478552400@www.xn--empfngnis-y2a.com
SUMMARY:Einfach genial - sympto-thermal GRUNDKURS DER NATÜRLICHEN EMPFÄNGNISREGELUNG
DESCRIPTION:
URL:http://www.xn--empfngnis-y2a.com/veranstaltung/einfach-genial-sympto-thermal-grundkurs-der-natuerlichen-empfaengnisregelung-4/
LOCATION:Wilhelmstraße 31\, Tulln\, 3430\, Österreich
GEO:48.3315436;16.0582515
X-APPLE-STRUCTURED-LOCATION;VALUE=URI;X-ADDRESS=Wilhelmstraße 31 Tulln 3430 Österreich;X-APPLE-RADIUS=500;X-TITLE=Wilhelmstraße 31:geo:16.0582515,48.3315436
END:VEVENT
END:VCALENDAR