BEGIN:VCALENDAR
VERSION:2.0
PRODID:-//empfängnis.com - ECPv4.6.2//NONSGML v1.0//EN
CALSCALE:GREGORIAN
METHOD:PUBLISH
X-WR-CALNAME:empfängnis.com
X-ORIGINAL-URL:http://www.xn--empfngnis-y2a.com
X-WR-CALDESC:Events for empfängnis.com
BEGIN:VEVENT
DTSTART;TZID=Europe/Berlin:20160513T193000
DTEND;TZID=Europe/Berlin:20160513T213000
DTSTAMP:20260422T050623
CREATED:20160501T173434Z
LAST-MODIFIED:20160501T174251Z
UID:907-1463167800-1463175000@www.xn--empfngnis-y2a.com
SUMMARY:Einfach genial - sympto-thermal - GRUNDKURS DER NATÜRLICHEN EMPFÄNGNISREGELUNG
DESCRIPTION:
URL:http://www.xn--empfngnis-y2a.com/veranstaltung/einfach-genial-sympto-thermal-grundkurs-der-natuerlichen-empfaengnisregelung-2/
LOCATION:Gemeindesaal Martinsberg 6\, 3664\, Österreich
GEO:48.3756346;15.1500131
X-APPLE-STRUCTURED-LOCATION;VALUE=URI;X-ADDRESS=Gemeindesaal Martinsberg 6 3664 Österreich;X-APPLE-RADIUS=500;X-TITLE=Gemeindesaal Martinsberg 6:geo:15.1500131,48.3756346
END:VEVENT
END:VCALENDAR