BEGIN:VCALENDAR
VERSION:2.0
PRODID:-//empfängnis.com - ECPv4.6.2//NONSGML v1.0//EN
CALSCALE:GREGORIAN
METHOD:PUBLISH
X-WR-CALNAME:empfängnis.com
X-ORIGINAL-URL:http://www.xn--empfngnis-y2a.com
X-WR-CALDESC:Events for empfängnis.com
BEGIN:VEVENT
DTSTART;TZID=Europe/Berlin:20170517T193000
DTEND;TZID=Europe/Berlin:20170517T213000
DTSTAMP:20260421T184503
CREATED:20170403T131633Z
LAST-MODIFIED:20170403T131633Z
UID:1625-1495049400-1495056600@www.xn--empfngnis-y2a.com
SUMMARY:Einfach genial - sympto-thermal GRUNDKURS DER NATÜRLICHEN EMPFÄNGNISREGELUNG
DESCRIPTION:
URL:http://www.xn--empfngnis-y2a.com/veranstaltung/einfach-genial-sympto-thermal-grundkurs-der-natuerlichen-empfaengnisregelung-10/
LOCATION:Werschenschlag 11\, Brand am Loschberg\, 3531\, Österreich
GEO:48.5609043;15.3143184
X-APPLE-STRUCTURED-LOCATION;VALUE=URI;X-ADDRESS=Werschenschlag 11 Brand am Loschberg 3531 Österreich;X-APPLE-RADIUS=500;X-TITLE=Werschenschlag 11:geo:15.3143184,48.5609043
END:VEVENT
END:VCALENDAR