BEGIN:VCALENDAR
VERSION:2.0
PRODID:-//empfängnis.com - ECPv4.6.2//NONSGML v1.0//EN
CALSCALE:GREGORIAN
METHOD:PUBLISH
X-WR-CALNAME:empfängnis.com
X-ORIGINAL-URL:http://www.xn--empfngnis-y2a.com
X-WR-CALDESC:Events for empfängnis.com
BEGIN:VEVENT
DTSTART;TZID=Europe/Berlin:20200126T100000
DTEND;TZID=Europe/Berlin:20200126T150000
DTSTAMP:20260420T103629
CREATED:20191119T205715Z
LAST-MODIFIED:20191119T205715Z
UID:2552-1580032800-1580050800@www.xn--empfngnis-y2a.com
SUMMARY:Ein Leben ohne Pornografie
DESCRIPTION:Ein Leben ohne Pornografie\n26.01.2020 • 10:00 Uhr – 15:00 Uhr • Jüptnergasse 4 – 8\, 1220 Wien • \nHilfe für Eltern\, Pädagogen\, Angehörige\, Betroffene\, Leiter … Was hilft beim Ausstieg aus der Pornografiesucht\, was können Angehörige (Partner\, Elternteil …) unternehmen… \nInfo bzw. Anmeldung: +43 1 6091528\, safer@safersurfing.org \nInfos \n
URL:http://www.xn--empfngnis-y2a.com/veranstaltung/ein-leben-ohne-pornografie/
LOCATION:Jüpnergasse 4-8\, Wien\, 1220\, Österreich
END:VEVENT
END:VCALENDAR