BEGIN:VCALENDAR
VERSION:2.0
PRODID:-//empfängnis.com - ECPv4.6.2//NONSGML v1.0//EN
CALSCALE:GREGORIAN
METHOD:PUBLISH
X-WR-CALNAME:empfängnis.com
X-ORIGINAL-URL:http://www.xn--empfngnis-y2a.com
X-WR-CALDESC:Events for empfängnis.com
BEGIN:VEVENT
DTSTART;TZID=Europe/Berlin:20190215T190000
DTEND;TZID=Europe/Berlin:20190215T220000
DTSTAMP:20260420T184215
CREATED:20190116T110827Z
LAST-MODIFIED:20190116T110827Z
UID:2336-1550257200-1550268000@www.xn--empfngnis-y2a.com
SUMMARY:Ehevorbereitung mit Tiefgang (Schönstattbewegung)
DESCRIPTION:ORT\nStift Göttweig \nTERMINE\nFr 15.2.2019 – 19 bis 22 Uhr\nFr 22.2.2019 – 19 bis 22 Uhr\nFr 1.3.2019 – 19 bis 22 Uhr\nFr 8.3.2019 – 19 bis 22 Uhr\nFr 15.3.2019 – 19 bis 22 Uhr\nFr 22.3.2019 – 17 bis 22 Uhr \nKOSTEN\n110 EUR pro Paar \nVERANSTALTER\nSchönstatt Familienbewegung Diözese St. Pölten \nINFO & ANMELDUNG\nDoris & Andreas Hönig\nT 0676 605 26 31\nE familie.hoenig@outlook.com\nW www.familien.stpoelten.schoenstatt.at \n
URL:http://www.xn--empfngnis-y2a.com/veranstaltung/ehevorbereitung-mit-tiefgang-schoenstattbewegung/
LOCATION:Stift Göttweig 1\, Furth bei Göttweig\, 3511\, Österreich
END:VEVENT
END:VCALENDAR