BEGIN:VCALENDAR
VERSION:2.0
PRODID:-//empfängnis.com - ECPv4.6.2//NONSGML v1.0//EN
CALSCALE:GREGORIAN
METHOD:PUBLISH
X-WR-CALNAME:empfängnis.com
X-ORIGINAL-URL:http://www.xn--empfngnis-y2a.com
X-WR-CALDESC:Events for empfängnis.com
BEGIN:VEVENT
DTSTART;TZID=Europe/Berlin:20190925T193000
DTEND;TZID=Europe/Berlin:20190925T210000
DTSTAMP:20260420T125229
CREATED:20190913T083936Z
LAST-MODIFIED:20190913T083936Z
UID:2493-1569439800-1569445200@www.xn--empfngnis-y2a.com
SUMMARY:Ehe\, Familie\, Liebe und Sexualität
DESCRIPTION:\n\n\nMittwoch\, 25. September 2019 – 19:45\n\n\n\n\n\n\n\nAnregungen für ein stimmiges und entspanntes Familienleben\, das aus dem Glauben viel konkrete Hilfe bekommen kann. \nWas können Großeltern zum eigenen Glück und zum Glück ihrer Kinder und Enkelkinder beitragen? \n\n\n\n\nKosten:\n\nfreie Spende\n\n\n\nReferentin:\n\nDr. Teresa Kaufeler\, Gerontologin\, Mutter und Großmutter\n\n\n\n\n\nAnmeldung und Info: Angela Hiesinger\, E: a.hiesinger@kirche.at\n\n\n\nVeranstaltungsart:\n\nVortrag\, Diskussion\n\n\n\nVeranstalter:\n\nPastorale Dienste der Diözese St. Pölten\, Bereich Familie\, Fachstelle Beziehung-Ehe-Familie\n\n\n\nZielgruppen:\n\nalle Interessierte\n\n\n\n
URL:http://www.xn--empfngnis-y2a.com/veranstaltung/ehe-familie-liebe-und-sexualitaet/
LOCATION:Kirchplatz 1\, Murstetten\, 3142\, Österreich
END:VEVENT
END:VCALENDAR