BEGIN:VCALENDAR
VERSION:2.0
PRODID:-//empfängnis.com - ECPv4.6.2//NONSGML v1.0//EN
CALSCALE:GREGORIAN
METHOD:PUBLISH
X-WR-CALNAME:empfängnis.com
X-ORIGINAL-URL:http://www.xn--empfngnis-y2a.com
X-WR-CALDESC:Events for empfängnis.com
BEGIN:VEVENT
DTSTART;TZID=Europe/Berlin:20181110T090000
DTEND;TZID=Europe/Berlin:20181110T120000
DTSTAMP:20260420T234913
CREATED:20180927T102702Z
LAST-MODIFIED:20180927T102702Z
UID:2206-1541840400-1541851200@www.xn--empfngnis-y2a.com
SUMMARY:Der spannenden Männer-Welt begegnen!
DESCRIPTION:Workshop für Frauen\nWann: Sa.\, 10. Nov. 2018\, 9-12 Uhr Wo: Pastorale Dienste St. Pölten\, Klostergasse 15\nSelbstbild Mannsein\, der Weg zur Balance Die vier Archetypen des Mannes Welcher Typ Mann ist mein Mann? Bindungserfahrung – Dimension einer guten Entwicklung \nReferent: Rupert Haselberger\, Sexualpädagoge\nKosten 10\,00 € /Person \nFachstelle Beziehung-Ehe-Familie 3100 St. Pölten\, Klostergasse 15 Information und Anmeldung: Angela Hiesinger T: +43 2742 324 33 39; E: a.hiesinger@kirche.at \n
URL:http://www.xn--empfngnis-y2a.com/veranstaltung/der-spannenden-maenner-welt-begegnen/
LOCATION:Klostergasse 15\, Sankt Pölten\, 3100\, Österreich
GEO:48.2067871;15.6265436
X-APPLE-STRUCTURED-LOCATION;VALUE=URI;X-ADDRESS=Klostergasse 15 Sankt Pölten 3100 Österreich;X-APPLE-RADIUS=500;X-TITLE=Klostergasse 15:geo:15.6265436,48.2067871
END:VEVENT
END:VCALENDAR