BEGIN:VCALENDAR
VERSION:2.0
PRODID:-//empfängnis.com - ECPv4.6.2//NONSGML v1.0//EN
CALSCALE:GREGORIAN
METHOD:PUBLISH
X-WR-CALNAME:empfängnis.com
X-ORIGINAL-URL:http://www.xn--empfngnis-y2a.com
X-WR-CALDESC:Events for empfängnis.com
BEGIN:VEVENT
DTSTART;TZID=Europe/Berlin:20191130T083000
DTEND;TZID=Europe/Berlin:20191201T173000
DTSTAMP:20260420T111216
CREATED:20191120T094015Z
LAST-MODIFIED:20191120T094015Z
UID:2560-1575102600-1575221400@www.xn--empfngnis-y2a.com
SUMMARY:DER LEIB - Zeuge der Liebe Wochenendkurs für die Theologie des Leibes
DESCRIPTION:\nDER LEIB – Zeuge der Liebe\nWochenendkurs für die Theologie des Leibes\n\n\nSamstag\, 30. November 2019 – 8:30 bis Sonntag\, 1. Dezember 2019 – 17:30\n\n\n\n\n\n\n\nLieben bedeutet\, das Gute für den anderen wollen. \nImpulse\, Workshops\, Zeugnisse\, Zeit für Austausch und Vertiefung\, Anbetung und Hl. Messe für Interessierte ab 18\, Paare\, Singels und Geweihte \nForum Wahou – mit internationalen Referenten \nProf. Norbert und Renate Martin\, Vallendar\, Deutschland – Lehrtätigkeit\nEmmanuel & Marie – Gabrielle Ménager\, Vendée\, Frankreich – Mitbegründer des Forum Wahou\nPfarrer Christoph Heinzen\, Ruppichteroth\, Deutschland\nMichi Check\, Österreich – You Magazin\nLeni Kesselstatt\, Österreich – Team Wahou\, Mitbegründerin der Familienallianz\n\n\nOrt: Cafe Caspar\nGrillparzerstraße 6\n\n1010  Wien\nÖsterreich\nAnmeldung: www.forumwahou.at\n\n\n\n\nKosten:\n\n€ 60 (pro Person inkl. Verpflegung); € 50 (für Ehepaare); € 30 (für Studenten / Geweihte)\n\n\n\nReferent:\n\nReferenten aus Österreich\, Deutschland\, Frankreich\n\n\n\nLeitung:\n\nwww.forumwahou.at\n\n\n\nVeranstaltungsart:\n\nSeminar\, Kurs\, Workshop\n\n\n\nVeranstalter:\n\nVerein Familienallianz – Forum Wahou! Österreich\n\n\n\n\nhttp://www.forumwahou.at\n\n\n\nZielgruppen:\n\nalle Interessierte\n\n\n\n
URL:http://www.xn--empfngnis-y2a.com/veranstaltung/der-leib-zeuge-der-liebe-wochenendkurs-fuer-die-theologie-des-leibes/
LOCATION:Grillparzerstrasse 6\, Wien\, 1010\, Österreich
END:VEVENT
END:VCALENDAR