BEGIN:VCALENDAR
VERSION:2.0
PRODID:-//empfängnis.com - ECPv4.6.2//NONSGML v1.0//EN
CALSCALE:GREGORIAN
METHOD:PUBLISH
X-WR-CALNAME:empfängnis.com
X-ORIGINAL-URL:http://www.xn--empfngnis-y2a.com
X-WR-CALDESC:Events for empfängnis.com
BEGIN:VEVENT
DTSTART;TZID=Europe/Berlin:20170520T193000
DTEND;TZID=Europe/Berlin:20170520T220000
DTSTAMP:20260421T185631
CREATED:20170315T113606Z
LAST-MODIFIED:20170315T113758Z
UID:1616-1495308600-1495317600@www.xn--empfngnis-y2a.com
SUMMARY:Christopher West
DESCRIPTION:Special evening \nGott\, Sex und der Sinn des Lebens \nim Rahmen der Theologie des Leibes -Tagung \nChristopher West gibt in seiner herzlichen\, humorvollen und authentischen Weise Antwort auf diese Fragen. Dieser Abend ist eine Chance\, die befreiende Botschaft der Theologie des Leibes für dich zu entdecken. \ninfo und Anmeldung: \ngams@christlichefamilie.at \n
URL:http://www.xn--empfngnis-y2a.com/veranstaltung/christopher-west/
LOCATION:Zuccalliplatz1\, Altötting\, 84503\, Deutschland
GEO:48.2263432;12.6784387
X-APPLE-STRUCTURED-LOCATION;VALUE=URI;X-ADDRESS=Zuccalliplatz1 Altötting 84503 Deutschland;X-APPLE-RADIUS=500;X-TITLE=Zuccalliplatz1:geo:12.6784387,48.2263432
END:VEVENT
END:VCALENDAR