BEGIN:VCALENDAR
VERSION:2.0
PRODID:-//empfängnis.com - ECPv4.6.2//NONSGML v1.0//EN
CALSCALE:GREGORIAN
METHOD:PUBLISH
X-WR-CALNAME:empfängnis.com
X-ORIGINAL-URL:http://www.xn--empfngnis-y2a.com
X-WR-CALDESC:Events for empfängnis.com
BEGIN:VEVENT
DTSTART;TZID=Europe/Berlin:20190126T090000
DTEND;TZID=Europe/Berlin:20190126T180000
DTSTAMP:20260420T183657
CREATED:20190117T115817Z
LAST-MODIFIED:20190117T115817Z
UID:2391-1548493200-1548525600@www.xn--empfngnis-y2a.com
SUMMARY:Bregenz - Natürliche Empfängnisregelung Grundkurs
DESCRIPTION:6900 Bregenz – Natürliche Empfängnisregelung Grundkurs\n\n\n\n\nKursart\nTageskurs\n\n\nTermine\nGT – Samstag\, 26.01.2019\, 09:00 – 18:00\n\n\nAdresse\n6900 Bregenz\, Thalbachgasse 17\n\n\nVeranstalter\nEhe und Familienzentrum Feldkirch\n\n\nAuskunft\nConny Berchtold\n0680/4401701\n\n\nTelefon\n0552274139\n\n\nE-Mail\ncp.berchtold@gmx.at\n\n\nReferent(en)\nConny Berchtold\n\n\nBesonderes\nAnmeldung beim Ehe und Familienzentrum Feldkirch unter der Telefonnummer 05522/74139 oder efz@kath-kirche-vorarlberg.at\nKosten: 80\,00 p.P. 110\,00 für Paare inclusive Buch und Unterlagen.\nMittagessen kann im Kloster eingenommen werden\, muss aber separat bezahlt werden. Bitte Schreibzeug mitbringen.\n\n\n\n\n
URL:http://www.xn--empfngnis-y2a.com/veranstaltung/bregenz-natuerliche-empfaengnisregelung-grundkurs/
LOCATION:Thalbachgasse 7\, Bregenz\, 6900\, Österreich
END:VEVENT
END:VCALENDAR