BEGIN:VCALENDAR
VERSION:2.0
PRODID:-//empfängnis.com - ECPv4.6.2//NONSGML v1.0//EN
CALSCALE:GREGORIAN
METHOD:PUBLISH
X-WR-CALNAME:empfängnis.com
X-ORIGINAL-URL:http://www.xn--empfngnis-y2a.com
X-WR-CALDESC:Events for empfängnis.com
BEGIN:VEVENT
DTSTART;TZID=Europe/Berlin:20181017T193000
DTEND;TZID=Europe/Berlin:20181017T210000
DTSTAMP:20260421T021114
CREATED:20180928T104125Z
LAST-MODIFIED:20180928T104154Z
UID:2255-1539804600-1539810000@www.xn--empfngnis-y2a.com
SUMMARY:Brand am Loschberg: Grundkurs Natürliche Empfängnisregelung - G3
DESCRIPTION:Grundkurs Natürliche\nEmpfängnisregelung – 3 Abende\nWann:Mi\, 19. Sept. 2018 \, 19.30 Uhr\nFolgetermine: 3. und 17. Oktober\n3531 Brand am Loschberg\,\nWerschenschlag 11 (bei Fam. Heider)\ngesund und sicher\nnebenwirkungsfrei\numweltbewahrend\nhilfreich bei Kinderwunsch\n& einfach in\nder Anwendung\nReferentin\nElisabeth Brandstetter\,\nzertifi zierte INER-Mitarbeiterin\nKosten 60\,00 € /Person & 65\,00 € /Paar\n45 € für SchülerInnen & StudentInnen \n
URL:http://www.xn--empfngnis-y2a.com/veranstaltung/brand-am-loschberg-grundkurs-natuerliche-empfaengnisregelung-3-abende-copy-copy/
LOCATION:Werschenschlag 11\, Brand am Loschberg\, 3531\, Österreich
END:VEVENT
END:VCALENDAR