BEGIN:VCALENDAR
VERSION:2.0
PRODID:-//empfängnis.com - ECPv4.6.2//NONSGML v1.0//EN
CALSCALE:GREGORIAN
METHOD:PUBLISH
X-WR-CALNAME:empfängnis.com
X-ORIGINAL-URL:http://www.xn--empfngnis-y2a.com
X-WR-CALDESC:Events for empfängnis.com
BEGIN:VEVENT
DTSTART;TZID=Europe/Berlin:20200228T080000
DTEND;TZID=Europe/Berlin:20200229T170000
DTSTAMP:20260420T074033
CREATED:20191120T100329Z
LAST-MODIFIED:20191120T101211Z
UID:2574-1582876800-1582995600@www.xn--empfngnis-y2a.com
SUMMARY:Besinnungs- und Wohlfühlwochenende für Mütter\, Wien
DESCRIPTION:Besinnungs- und Wohlfühlwochenende für Mütter\, Wien\n28.-29.02.2020 • 16:45 Uhr • Kulturzentrum Währing\, Hasenauerstr. 29\, 1180 Wien \nDie Betrachtungen hält Dr. Christian Spalek\, Priester des Opus Dei\, einer Einrichtung der katholischen Kirche\, die Christsein im Alltag fördert. \nChallege – Christsein heute \nInfo bzw. Anmeldung:\nclaudia.fessler@gmx.net \n[andrea.bernhard@stella-dc.at[/email] \nVerwöhnwochenende \n
URL:http://www.xn--empfngnis-y2a.com/veranstaltung/besinnungs-und-wohlfuehlwochenende-fuer-muetter-wien/
LOCATION:Hasenauerstrasse 29\, Wien\, 1180\, Österreich
END:VEVENT
END:VCALENDAR