BEGIN:VCALENDAR
VERSION:2.0
PRODID:-//empfängnis.com - ECPv4.6.2//NONSGML v1.0//EN
CALSCALE:GREGORIAN
METHOD:PUBLISH
X-WR-CALNAME:empfängnis.com
X-ORIGINAL-URL:http://www.xn--empfngnis-y2a.com
X-WR-CALDESC:Events for empfängnis.com
BEGIN:VEVENT
DTSTART;TZID=Europe/Berlin:20161014T190000
DTEND;TZID=Europe/Berlin:20161014T220000
DTSTAMP:20260422T033300
CREATED:20161006T125729Z
LAST-MODIFIED:20161006T125729Z
UID:1162-1476471600-1476482400@www.xn--empfngnis-y2a.com
SUMMARY:Baustelle Pubertät. Infoveranstaltung für Eltern\, Pädagoginnen und alle Interessierte
DESCRIPTION:
URL:http://www.xn--empfngnis-y2a.com/veranstaltung/baustelle-pubertaet-infoveranstaltung-fuer-eltern-paedagoginnen-und-alle-interessierte/
LOCATION:Marktplatz 1\, Asten bei Linz\, 4481\, Österreich
GEO:48.2199018;14.4210163
X-APPLE-STRUCTURED-LOCATION;VALUE=URI;X-ADDRESS=Marktplatz 1 Asten bei Linz 4481 Österreich;X-APPLE-RADIUS=500;X-TITLE=Marktplatz 1:geo:14.4210163,48.2199018
END:VEVENT
END:VCALENDAR