BEGIN:VCALENDAR
VERSION:2.0
PRODID:-//empfängnis.com - ECPv4.6.2//NONSGML v1.0//EN
CALSCALE:GREGORIAN
METHOD:PUBLISH
X-WR-CALNAME:empfängnis.com
X-ORIGINAL-URL:http://www.xn--empfngnis-y2a.com
X-WR-CALDESC:Events for empfängnis.com
BEGIN:VEVENT
DTSTART;TZID=Europe/Berlin:20171118T080000
DTEND;TZID=Europe/Berlin:20171119T170000
DTSTAMP:20260421T122938
CREATED:20170920T083150Z
LAST-MODIFIED:20170920T083150Z
UID:1928-1510992000-1511110800@www.xn--empfngnis-y2a.com
SUMMARY:Ausbildung zum Familienassistenten\, St. Pölten
DESCRIPTION:Akademie für Ehe und Familie\, 1. WE\n\n18.-19.11.2017 • Maria Ward Haus\, Strattersdorfer Hauptstr. 32\, 3100 St. Pölten \nweitere Termine 2018: 10./11. Februar\, 7. / 8. April\, 02. / 03. Juni\, 20./21. Okt.\, 15./16. Dez. 1. Sommerwoche 2018: 19. bis 25. August Termine 2019: 26. / 27. Jänner\, 23. / 24. März\, 25. / 26. Mai\, 5. / 6. Okt.\, 30. Nov. / 1. Dez. 2. Sommerwoche 2019: 4. Bis 10. August Termine 2020: 18. / 19. Jan. Sendungsfeier: 9. Feb. 2020 \nEine zweijährige Ausbildung für Ehepaare zu Familienassistenten. Im ersten Kursjahr geht es um das eigene Ehe- und Familienleben: die Beziehung zum Ehepartner\, zu den Kindern\, zu Gott sowie die Entfaltung einer persönlichen Familienkultur\, eines je eigenen Familienbrauchtums. \nInfo bzw. Anmeldung:\nreinbacher@christlichefamilie.at \nICF Familienakademie NÖ Flyer2017-20 \n\n\n\n\n
URL:http://www.xn--empfngnis-y2a.com/veranstaltung/ausbildung-zum-familienassistenten-st-poelten/
LOCATION:Strattersdorfer Hauptstr. 32\, Sankt Pölten\, 3100\, Österreich
GEO:48.1995319;15.6372388
X-APPLE-STRUCTURED-LOCATION;VALUE=URI;X-ADDRESS=Strattersdorfer Hauptstr. 32 Sankt Pölten 3100 Österreich;X-APPLE-RADIUS=500;X-TITLE=Strattersdorfer Hauptstr. 32:geo:15.6372388,48.1995319
END:VEVENT
END:VCALENDAR