BEGIN:VCALENDAR
VERSION:2.0
PRODID:-//empfängnis.com - ECPv4.6.2//NONSGML v1.0//EN
CALSCALE:GREGORIAN
METHOD:PUBLISH
X-WR-CALNAME:empfängnis.com
X-ORIGINAL-URL:http://www.xn--empfngnis-y2a.com
X-WR-CALDESC:Events for empfängnis.com
BEGIN:VEVENT
DTSTART;TZID=Europe/Berlin:20161001T090000
DTEND;TZID=Europe/Berlin:20161001T180000
DTSTAMP:20260422T064627
CREATED:20160519T151106Z
LAST-MODIFIED:20160519T151747Z
UID:922-1475312400-1475344800@www.xn--empfngnis-y2a.com
SUMMARY:Aufbaukurs Natürliche Empfängnisregelung Oktober 2016 bis April 2017
DESCRIPTION:
URL:http://www.xn--empfngnis-y2a.com/veranstaltung/aufbaukurs-natuerliche-empfaengnisregelung-oktober-2016-bis-april-2017/
LOCATION:Spiegelgasse 3\, Wien\, 1010\, Österreich
GEO:48.207792;16.3706378
X-APPLE-STRUCTURED-LOCATION;VALUE=URI;X-ADDRESS=Spiegelgasse 3 Wien 1010 Österreich;X-APPLE-RADIUS=500;X-TITLE=Spiegelgasse 3:geo:16.3706378,48.207792
ORGANIZER;CN="INER":MAILTO:inerwien@hotmail.com
END:VEVENT
END:VCALENDAR