BEGIN:VCALENDAR
VERSION:2.0
PRODID:-//empfängnis.com - ECPv4.6.2//NONSGML v1.0//EN
CALSCALE:GREGORIAN
METHOD:PUBLISH
X-WR-CALNAME:empfängnis.com
X-ORIGINAL-URL:http://www.xn--empfngnis-y2a.com
X-WR-CALDESC:Events for empfängnis.com
BEGIN:VEVENT
DTSTART;TZID=Europe/Berlin:20170930T090000
DTEND;TZID=Europe/Berlin:20170930T180000
DTSTAMP:20260421T140019
CREATED:20170825T105542Z
LAST-MODIFIED:20170901T194223Z
UID:1849-1506762000-1506794400@www.xn--empfngnis-y2a.com
SUMMARY:AUFBAUKURS Natürliche Empfängnisregelung
DESCRIPTION:nach Prof. Dr. med. Josef Rötzer  \nOrt: \nTeil 1-6: Klostergasse 15\, 3100 St. Pölten\, Pastorale Dienste\, Bereich Familie\, Florian-Zimmel-Saal\, 1. Stock.\nTeil 7: Bildungshaus St. Hippolyt\, Eybner Str. 5 Übernachtunsmöglichkeit im Bildungshaus St. Hippolyt\, Zimmeranmeldung verbindlich! \nTermine:\nDer Aufbaukurs wird in 7 Teilen abgehalten.\nTeil 1 bis 6 findet jeweils am Samstag von 9:00 Uhr bis 18:00 Uhr statt. \nTeil 1: Samstag\, 30. September 2017\nTeil 2: Samstag\, 21. Oktober 2017\nTeil 3: Samstag\, 11. November 2017\nTeil 4: Samstag\, 2. Dezember 2017\nTeil 5: Samstag\, 13. Jänner 2018\nTeil 6: Samstag\, 17. Februar 2018\nTeil 7: Samstag\, 10. März\, 9:00 Uhr bis Sonntag\, 11. März 2018 (ca. 17.00 Uhr Abschlussmesse) \nBitte alle Termine einhalten! \nMöglichkeit zum Mittagessen an allen Terminen. Kinderbetreuung wird angeboten. \nBegrenzte Teilnehmerzahl. Bitte rasch anmelden! \nLeitung des Seminars: \nElisabeth und Josef Weinlich und Dr. med. Karin Kroboth\nTeil 7 mit Elisabeth Rötzer und Bischofsvikar Dr. Helmut Prader \nKursbeitrag: \nEinzelperson € 260\,–   Ehepaar € 320\,-    inkl. Kursmaterial\nINER-Mitglieder: Einzelperson € 200\,- Ehepaar € 250\,- (Ratenzahlung und Ermäßigung auf Anfrage) \nKursbeitrag bitte auf folgendes Konto einzahlen: \nPastorale Dienste der Diözese St. Pölten\, Klostergasse 15\nSparkasse NÖ Mitte West AG\nIBAN: AT222025 6000 00013011\, BIC SPSPAT21XXX\nZahlungszweck: A-Kurs 2017/18\nKostenstelle 33115 \n
URL:http://www.xn--empfngnis-y2a.com/veranstaltung/aufbaukurs-natuerliche-empfaengnisregelung-copy-2/
LOCATION:Klostergasse 5\, St. Pölten\, 3100\, Österreich
GEO:48.2068203;15.62555
X-APPLE-STRUCTURED-LOCATION;VALUE=URI;X-ADDRESS=Klostergasse 5 St. Pölten 3100 Österreich;X-APPLE-RADIUS=500;X-TITLE=Klostergasse 5:geo:15.62555,48.2068203
ORGANIZER;CN="INER":MAILTO:inerwien@hotmail.com
END:VEVENT
END:VCALENDAR