BEGIN:VCALENDAR
VERSION:2.0
PRODID:-//empfängnis.com - ECPv4.6.2//NONSGML v1.0//EN
CALSCALE:GREGORIAN
METHOD:PUBLISH
X-WR-CALNAME:empfängnis.com
X-ORIGINAL-URL:http://www.xn--empfngnis-y2a.com
X-WR-CALDESC:Events for empfängnis.com
BEGIN:VEVENT
DTSTART;TZID=Europe/Berlin:20160423T100000
DTEND;TZID=Europe/Berlin:20160423T173000
DTSTAMP:20260422T050731
CREATED:20160407T091729Z
LAST-MODIFIED:20160407T091729Z
UID:889-1461405600-1461432600@www.xn--empfngnis-y2a.com
SUMMARY:Aktionstag zum Thema Sexualität und Würde - Workshops
DESCRIPTION:
URL:http://www.xn--empfngnis-y2a.com/veranstaltung/aktionstag-zum-thema-sexualitaet-und-wuerde-workshops/
LOCATION:Beheimgasse 1\, Wien\, 1170\, Österreich
GEO:48.2189896;16.3390556
X-APPLE-STRUCTURED-LOCATION;VALUE=URI;X-ADDRESS=Beheimgasse 1 Wien 1170 Österreich;X-APPLE-RADIUS=500;X-TITLE=Beheimgasse 1:geo:16.3390556,48.2189896
END:VEVENT
END:VCALENDAR