BEGIN:VCALENDAR
VERSION:2.0
PRODID:-//empfängnis.com - ECPv4.6.2//NONSGML v1.0//EN
CALSCALE:GREGORIAN
METHOD:PUBLISH
X-WR-CALNAME:empfängnis.com
X-ORIGINAL-URL:http://www.xn--empfngnis-y2a.com
X-WR-CALDESC:Events for empfängnis.com
BEGIN:VEVENT
DTSTART;TZID=Europe/Berlin:20170112T190000
DTEND;TZID=Europe/Berlin:20170112T190000
DTSTAMP:20260421T171927
CREATED:20161204T155356Z
LAST-MODIFIED:20161204T155356Z
UID:1293-1484247600-1484247600@www.xn--empfngnis-y2a.com
SUMMARY:Abend der Frau
DESCRIPTION:
URL:http://www.xn--empfngnis-y2a.com/veranstaltung/abend-der-frau/
LOCATION:Eingang Domplatz\, neben Hauptportal\, Dompfarre St. Pölten\, Österreich
GEO:48.20353;15.63817
X-APPLE-STRUCTURED-LOCATION;VALUE=URI;X-ADDRESS=Eingang Domplatz neben Hauptportal Dompfarre St. Pölten Österreich;X-APPLE-RADIUS=500;X-TITLE=Eingang Domplatz\, neben Hauptportal:geo:15.63817,48.20353
END:VEVENT
END:VCALENDAR