BEGIN:VCALENDAR
VERSION:2.0
PRODID:-//empfängnis.com - ECPv4.6.2//NONSGML v1.0//EN
CALSCALE:GREGORIAN
METHOD:PUBLISH
X-WR-CALNAME:empfängnis.com
X-ORIGINAL-URL:http://www.xn--empfngnis-y2a.com
X-WR-CALDESC:Events for empfängnis.com
BEGIN:VEVENT
DTSTART;TZID=Europe/Berlin:20171028T083000
DTEND;TZID=Europe/Berlin:20171028T153000
DTSTAMP:20260421T152253
CREATED:20171021T135130Z
LAST-MODIFIED:20171021T135130Z
UID:2005-1509179400-1509204600@www.xn--empfngnis-y2a.com
SUMMARY:9020 Klagenfurt\, Tageskurs NER
DESCRIPTION:\n\n\nKursart\nGrundkurs als Tageskurs\n\n\nTermine\nGT – Samstag\, 28.10.2017\, 08:30 – 15:30\n\n\nAdresse\n9020 Klagenfurt\, Kapuzinerkirche\n\n\nVeranstalter\nDr. Nosko und Dr. Hernegger\n\n\nAuskunft\nDr. Christa Nosko\n\n\nE-Mail\ninfo@gyn-dr-nosko.at\n\n\nReferent(en)\nDr. Christa Nosko und Dr. Bettina Hernegger\nFÄ für Gynäkologie und Frauenheilkunde\n\n\nBesonderes\nSeminarkosten: € 130\,00 pro Person; mit Partner gemeinsam € 150\,00\nAnmeldung bei Dr. Nosko info@gyn-dr-nosko.at\n\n\n\n
URL:http://www.xn--empfngnis-y2a.com/veranstaltung/9020-klagenfurt-tageskurs-ner/
LOCATION:Waaggasse 15\, Klagenfurt\, 9020\, Österreich
END:VEVENT
END:VCALENDAR