BEGIN:VCALENDAR
VERSION:2.0
PRODID:-//empfängnis.com - ECPv4.6.2//NONSGML v1.0//EN
CALSCALE:GREGORIAN
METHOD:PUBLISH
X-WR-CALNAME:empfängnis.com
X-ORIGINAL-URL:http://www.xn--empfngnis-y2a.com
X-WR-CALDESC:Events for empfängnis.com
BEGIN:VEVENT
DTSTART;TZID=Europe/Berlin:20170811T190000
DTEND;TZID=Europe/Berlin:20170811T210000
DTSTAMP:20260421T170113
CREATED:20170616T150044Z
LAST-MODIFIED:20170616T150117Z
UID:1803-1502478000-1502485200@www.xn--empfngnis-y2a.com
SUMMARY:8630\, Mariazell\, Grundkurs (NER)
DESCRIPTION:Termine:   Mittwoch\, 12. Juli 2017 von 19 bis 21 Uhr Freitag\, 11. August von 19 bis 21 Uhr Montag\, 4. September von 19 bis 21 Uhr\nOrt:    8630 Mariazell\, Hauptstraße 4 Apotheke und Drogerie „Zur Gnadenmutter“ Mag.pharm. Dr. Angelika Prentner e.U\nNatürliche Empfängnisregelung fördert    eine positive Einstellung zum Körper und Zyklus    den bewussten Umgang mit der eigenen Fruchtbarkeit    das partnerschaftliche Gespräch über Sexualität\nDie NER ist gesund und sicher (PI = 0 – 0\,2!)\, nebenwirkungsfrei\, umweltbewahrend und einfach in der Anwendung!\nDenn die NER beruht auf der wissenschaftlich gesicherten Tatsache\, dass im Zyklus der Frau die meisten Tage unfruchtbar sind.\nBei Kinderwunsch hilft die NER die fruchtbare Zeit zu bestimmen!\nReferentin: Mag.rer.nat. Dr. Barbara M. Sauberer    zert. INER-Mitarbeiterin nach Prof.     Dr. med. Josef Rötzer\, www.iner.org\nKursbeitrag inkl. Kursunterlagen und Buch: € 65.- pro Paar\, € 60.- pro Person und € 45.- pro Student/in\, anschließende Beratungen gratis\nAnmeldung erforderlich!: barbara@notar-sauberer.at od. 0664 11 88 721 \n
URL:http://www.xn--empfngnis-y2a.com/veranstaltung/8630-mariazell-grundkurs-ner-copy-2/
LOCATION:Hauptstrasse 4\, Mariazell\, 8630\, Österreich
GEO:47.7729954;15.3172953
X-APPLE-STRUCTURED-LOCATION;VALUE=URI;X-ADDRESS=Hauptstrasse 4 Mariazell 8630 Österreich;X-APPLE-RADIUS=500;X-TITLE=Hauptstrasse 4:geo:15.3172953,47.7729954
END:VEVENT
END:VCALENDAR