BEGIN:VCALENDAR
VERSION:2.0
PRODID:-//empfängnis.com - ECPv4.6.2//NONSGML v1.0//EN
CALSCALE:GREGORIAN
METHOD:PUBLISH
X-WR-CALNAME:empfängnis.com
X-ORIGINAL-URL:http://www.xn--empfngnis-y2a.com
X-WR-CALDESC:Events for empfängnis.com
BEGIN:VEVENT
DTSTART;TZID=Europe/Berlin:20201009T090000
DTEND;TZID=Europe/Berlin:20201009T170000
DTSTAMP:20260420T021301
CREATED:20201009T191504Z
LAST-MODIFIED:20201009T191504Z
UID:2696-1602234000-1602262800@www.xn--empfngnis-y2a.com
SUMMARY:8630 Mariazell\, Apotheke und Drogerie "Zur Gnadenmutter" - Natürliche Empfängnisregelung Rötzer (NER)
DESCRIPTION:\n\n\nKursart\nTagesgrundkurs für die praktische Anwendung\n\n\nTermine\nGT – Samstag\, 10.10.2020\, 09:00 – 17:00\n\n\nAdresse\n8630 Mariazell\, Apotheke und Drogerie „Zur Gnadenmutter“\, Mag.pharm.Dr. Angelika Riffel e.U.\, Hauptplatz 4\n\n\nVeranstalter\nINER\n\n\nAuskunft\nBei der Referentin\n\n\nReferent(en)\nMag.rer.nat.Dr. Barbara M. Sauberer\,\nBiologin\, NER-Referentin und zert. INER-Mitarbeiterin\nInformation: 0664 11 88 721\n\n\nBesonderes\nAnmeldung unbedingt erforderlich!\nbarbara@notar-sauberer.at \nKursbeitrag:\n€ 70.- / Person und Paar\n€ 50.- / Student/in\ninkl. Rötzer-Lehrbuch und umfassende Kursunterlagen!\nBeratungen via Telefon\, E-Mail oder persönlich nach einem Kurs kostenlos! Geratherm-Frauen-Thermometer können im Kurs erworben werden.\n\n\n\n
URL:http://www.xn--empfngnis-y2a.com/veranstaltung/8630-mariazell-apotheke-und-drogerie-zur-gnadenmutter-natuerliche-empfaengnisregelung-roetzer-ner/
LOCATION:Hauptplatz 4\, M;ariazell\, 8630\, Österreich
END:VEVENT
END:VCALENDAR