BEGIN:VCALENDAR
VERSION:2.0
PRODID:-//empfängnis.com - ECPv4.6.2//NONSGML v1.0//EN
CALSCALE:GREGORIAN
METHOD:PUBLISH
X-WR-CALNAME:empfängnis.com
X-ORIGINAL-URL:http://www.xn--empfngnis-y2a.com
X-WR-CALDESC:Events for empfängnis.com
BEGIN:VEVENT
DTSTART;TZID=Europe/Berlin:20160926T193000
DTEND;TZID=Europe/Berlin:20160926T220000
DTSTAMP:20260422T000706
CREATED:20160323T152932Z
LAST-MODIFIED:20160323T152932Z
UID:863-1474918200-1474927200@www.xn--empfngnis-y2a.com
SUMMARY:6840 Götzis\, Bildungshaus St. Arbogast - Natürliche Empfängnisregelung
DESCRIPTION:
URL:http://www.xn--empfngnis-y2a.com/veranstaltung/6840-goetzis-bildungshaus-st-arbogast-natuerliche-empfaengnisregelung/
LOCATION:Bildungshaus St. Arbogast Montfortstraße 88\, Götzis\, 6840\, Österreich
GEO:47.3244783;9.6400158
X-APPLE-STRUCTURED-LOCATION;VALUE=URI;X-ADDRESS=Bildungshaus St. Arbogast Montfortstraße 88 Götzis 6840 Österreich;X-APPLE-RADIUS=500;X-TITLE=Bildungshaus St. Arbogast Montfortstraße 88:geo:9.6400158,47.3244783
END:VEVENT
END:VCALENDAR