BEGIN:VCALENDAR
VERSION:2.0
PRODID:-//empfängnis.com - ECPv4.6.2//NONSGML v1.0//EN
CALSCALE:GREGORIAN
METHOD:PUBLISH
X-WR-CALNAME:empfängnis.com
X-ORIGINAL-URL:http://www.xn--empfngnis-y2a.com
X-WR-CALDESC:Events for empfängnis.com
BEGIN:VEVENT
DTSTART;TZID=Europe/Berlin:20170120T180000
DTEND;TZID=Europe/Berlin:20170120T210000
DTSTAMP:20260421T223458
CREATED:20160323T154052Z
LAST-MODIFIED:20160323T154406Z
UID:866-1484935200-1484946000@www.xn--empfngnis-y2a.com
SUMMARY:6840 Götzis\, Bildungshaus St. Arbogast - Aufbaulehrgang Natürliche Empfängnisregelung mit Zertifikatserwerb
DESCRIPTION:
URL:http://www.xn--empfngnis-y2a.com/veranstaltung/6840-goetzis-bildungshaus-st-arbogast-aufbaulehrgang-natuerliche-empfaengnisregelung-mit-zertifikatserwerb/
LOCATION:Bildungshaus St. Arbogast Montfortstraße 88\, Götzis\, 6840\, Österreich
GEO:47.3244783;9.6400158
X-APPLE-STRUCTURED-LOCATION;VALUE=URI;X-ADDRESS=Bildungshaus St. Arbogast Montfortstraße 88 Götzis 6840 Österreich;X-APPLE-RADIUS=500;X-TITLE=Bildungshaus St. Arbogast Montfortstraße 88:geo:9.6400158,47.3244783
END:VEVENT
END:VCALENDAR