BEGIN:VCALENDAR
VERSION:2.0
PRODID:-//empfängnis.com - ECPv4.6.2//NONSGML v1.0//EN
CALSCALE:GREGORIAN
METHOD:PUBLISH
X-WR-CALNAME:empfängnis.com
X-ORIGINAL-URL:http://www.xn--empfngnis-y2a.com
X-WR-CALDESC:Events for empfängnis.com
BEGIN:VEVENT
DTSTART;TZID=Europe/Berlin:20210922T190000
DTEND;TZID=Europe/Berlin:20210922T220000
DTSTAMP:20260419T155736
CREATED:20210917T203049Z
LAST-MODIFIED:20210917T203049Z
UID:2825-1632337200-1632348000@www.xn--empfngnis-y2a.com
SUMMARY:6800 Feldkirch - Natürliche Empfängnisregelung
DESCRIPTION:\n\n\nKursart\nGrundkurs mit persönlicher Begleitung\n\n\nTermine\nG1 – Mittwoch\, 22.09.2021\, 19:00 – 22:00G2 – Mittwoch\, 13.10.2021\, 19:00 – 22:00G3 – Mittwoch\, 03.11.2021\, 19:00 – 22:00G4 – Mittwoch\, 09.02.2022\, 19:00 – 22:00\n\n\nAdresse\n6800 Feldkirch\, Herrengasse 4\n\n\nVeranstalter\nEhe- und Familienzentrum Feldkirch\n\n\nAuskunft\nEmail: margret.weissenbach@iner.org\nTel: 05523 64600\n\n\nTelefon\n05522 74139\n\n\nE-Mail\ninfo@efz.at\n\n\nReferent(en)\nMargret und Hubert Weißenbach\n\n\nBesonderes\n4-teiliger Grundkurs mit persönlicher Begleitung\nBegrenzte Teilnehmerzahl\nKosten:\nEinzelperson 100 €\nPaar 120 €\nBitte um Anmeldung beim Veranstalter\n\n\n\n
URL:http://www.xn--empfngnis-y2a.com/veranstaltung/6800-feldkirch-natuerliche-empfaengnisregelung/
LOCATION:Montfortstraße 88\, Götzis\, 6840\, Österreich
GEO:47.3244783;9.6400158
X-APPLE-STRUCTURED-LOCATION;VALUE=URI;X-ADDRESS=Montfortstraße 88 Götzis 6840 Österreich;X-APPLE-RADIUS=500;X-TITLE=Montfortstraße 88:geo:9.6400158,47.3244783
END:VEVENT
END:VCALENDAR