BEGIN:VCALENDAR
VERSION:2.0
PRODID:-//empfängnis.com - ECPv4.6.2//NONSGML v1.0//EN
CALSCALE:GREGORIAN
METHOD:PUBLISH
X-WR-CALNAME:empfängnis.com
X-ORIGINAL-URL:http://www.xn--empfngnis-y2a.com
X-WR-CALDESC:Events for empfängnis.com
BEGIN:VEVENT
DTSTART;TZID=Europe/Berlin:20170503T192500
DTEND;TZID=Europe/Berlin:20170503T213000
DTSTAMP:20260421T140701
CREATED:20170407T110650Z
LAST-MODIFIED:20170407T110728Z
UID:1757-1493839500-1493847000@www.xn--empfngnis-y2a.com
SUMMARY:6351 Scheffau am Wilden Kaiser; NER Info-Abend
DESCRIPTION:\n\n\nInfo-Abend\n\n\nTermine\nINFO – Mittwoch\, 03.05.2017\, 19:30 – 21:30\n\n\nAdresse\n6351 Scheffau am Wilden Kaiser\, Dorf 41\n\n\nVeranstalter\nKatholisches Bildungswerk Scheffau\n\n\nAuskunft\nMonika Einwaller\n0676 / 441 99 66\n\n\nReferent(en)\nMonika Kastner\n\n\n\n\n\n\n\n
URL:http://www.xn--empfngnis-y2a.com/veranstaltung/6351-scheffau-am-wilden-kaiser-ner-info-abend/
LOCATION:Dorf 41\, Scheffau am Wilden Kaiser\, 6351 
GEO:47.5278323;12.249015
X-APPLE-STRUCTURED-LOCATION;VALUE=URI;X-ADDRESS=Dorf 41 Scheffau am Wilden Kaiser 6351;X-APPLE-RADIUS=500;X-TITLE=Dorf 41:geo:12.249015,47.5278323
END:VEVENT
END:VCALENDAR