BEGIN:VCALENDAR
VERSION:2.0
PRODID:-//empfängnis.com - ECPv4.6.2//NONSGML v1.0//EN
CALSCALE:GREGORIAN
METHOD:PUBLISH
X-WR-CALNAME:empfängnis.com
X-ORIGINAL-URL:http://www.xn--empfngnis-y2a.com
X-WR-CALDESC:Events for empfängnis.com
BEGIN:VEVENT
DTSTART;TZID=Europe/Berlin:20160917T090000
DTEND;TZID=Europe/Berlin:20160917T180000
DTSTAMP:20260422T014603
CREATED:20160308T155048Z
LAST-MODIFIED:20160308T155048Z
UID:828-1474102800-1474135200@www.xn--empfngnis-y2a.com
SUMMARY:6300 Wörgl - Tageskurs Natürliche Empfängnisregelung
DESCRIPTION:
URL:http://www.xn--empfngnis-y2a.com/veranstaltung/6300-woergl-tageskurs-natuerliche-empfaengnisregelung/
LOCATION:Brixentalerstraße 5\, Tagungshaus Wörgl\, Wörgl\, 6300\, Österreich
GEO:47.4856098;12.0649466
X-APPLE-STRUCTURED-LOCATION;VALUE=URI;X-ADDRESS=Brixentalerstraße 5 Tagungshaus Wörgl Wörgl 6300 Österreich;X-APPLE-RADIUS=500;X-TITLE=Brixentalerstraße 5\, Tagungshaus Wörgl:geo:12.0649466,47.4856098
END:VEVENT
END:VCALENDAR