BEGIN:VCALENDAR
VERSION:2.0
PRODID:-//empfängnis.com - ECPv4.6.2//NONSGML v1.0//EN
CALSCALE:GREGORIAN
METHOD:PUBLISH
X-WR-CALNAME:empfängnis.com
X-ORIGINAL-URL:http://www.xn--empfngnis-y2a.com
X-WR-CALDESC:Events for empfängnis.com
BEGIN:VEVENT
DTSTART;TZID=Europe/Berlin:20161112T083000
DTEND;TZID=Europe/Berlin:20161112T180000
DTSTAMP:20260422T001704
CREATED:20160308T145524Z
LAST-MODIFIED:20160308T151842Z
UID:796-1478939400-1478973600@www.xn--empfngnis-y2a.com
SUMMARY:5101 Bergheim - 8. Salzburger Weiterbildungs- und Austauschtreffen Natürliche Empfängnisregelung
DESCRIPTION:
URL:http://www.xn--empfngnis-y2a.com/veranstaltung/5101-bergheim-8-salzburger-weiterbildungs-und-austauschtreffen-natuerliche-empfaengnisregelung/
LOCATION:Plainbergweg 41\, Bergheim\, 5101\, Österreich
GEO:47.8378698;13.0409173
X-APPLE-STRUCTURED-LOCATION;VALUE=URI;X-ADDRESS=Plainbergweg 41 Bergheim 5101 Österreich;X-APPLE-RADIUS=500;X-TITLE=Plainbergweg 41:geo:13.0409173,47.8378698
END:VEVENT
END:VCALENDAR