BEGIN:VCALENDAR
VERSION:2.0
PRODID:-//empfängnis.com - ECPv4.6.2//NONSGML v1.0//EN
CALSCALE:GREGORIAN
METHOD:PUBLISH
X-WR-CALNAME:empfängnis.com
X-ORIGINAL-URL:http://www.xn--empfngnis-y2a.com
X-WR-CALDESC:Events for empfängnis.com
BEGIN:VEVENT
DTSTART;TZID=Europe/Berlin:20201010T090000
DTEND;TZID=Europe/Berlin:20201010T180000
DTSTAMP:20260420T003129
CREATED:20201009T191208Z
LAST-MODIFIED:20201009T191208Z
UID:2694-1602320400-1602352800@www.xn--empfngnis-y2a.com
SUMMARY:5020 Salzburg - Tageskurs Natürliche Empfängnisregelung
DESCRIPTION:\n\n\nKursart\nGrundkurs als Tageskurs\n\n\nTermine\nGT – Samstag\, 10.10.2020\, 09:00 – 18:00\n\n\nAdresse\n5020 Salzburg\, Eduard Heinrich Str. 2\, Eduard Heinrich Haus\n\n\nVeranstalter\nReferat für Ehe und Familie der Erzdiözese Salzburg\n\n\nAuskunft\nMag. Maria Eisl\nReferat für Ehe und Familie\nDreifaltigkeitsgasse 12\n5020 Salzburg\n0662/879613-12\n\n\nTelefon\n0662-879613-12\n\n\nE-Mail\nmaria.eisl@ehe-familie.at\n\n\nReferent(en)\nAngelica &#40;BEd&#41; und Thomas Spießberger\n\n\nBesonderes\nAnmeldung:\nmaria.eisl@ehe-familie.at\nwww.ehe-familie.at\nSeminarbeitrag:\nPro Person: € 60\,–\nPro Ehepaar: € 70\,–\n\n\n\n
URL:http://www.xn--empfngnis-y2a.com/veranstaltung/5020-salzburg-tageskurs-natuerliche-empfaengnisregelung-2/
LOCATION:Eduard Heinrich Str. 2\, Salzburg\, 5020\, Österreich
END:VEVENT
END:VCALENDAR