BEGIN:VCALENDAR
VERSION:2.0
PRODID:-//empfängnis.com - ECPv4.6.2//NONSGML v1.0//EN
CALSCALE:GREGORIAN
METHOD:PUBLISH
X-WR-CALNAME:empfängnis.com
X-ORIGINAL-URL:http://www.xn--empfngnis-y2a.com
X-WR-CALDESC:Events for empfängnis.com
BEGIN:VEVENT
DTSTART;TZID=Europe/Berlin:20211113T083000
DTEND;TZID=Europe/Berlin:20211113T180000
DTSTAMP:20260419T174646
CREATED:20210917T202135Z
LAST-MODIFIED:20210917T202212Z
UID:2818-1636792200-1636826400@www.xn--empfngnis-y2a.com
SUMMARY:5020 Salzburg - Aufbaulehrgang Natürliche Empfängnisregelung (NER) mit Zertifikat NEUE Termine!  A3
DESCRIPTION:\n\n\nKursart\nAufbaulehrgang\n\n\nTermine\nA1 – Samstag\, 11.09.2021\, 08:30 – 18:00A2 – Samstag\, 09.10.2021\, 08:30 – 18:00A3 – Samstag\, 13.11.2021\, 08:30 – 18:00A4 – Samstag\, 11.12.2021\, 08:30 – 18:00A5 – Samstag\, 15.01.2022\, 08:30 – 18:00A6 – Samstag\, 12.02.2022\, 08:30 – 18:00A7 – Freitag\, 18.03.2022\, 14:00 – 21:00A7 – Samstag\, 19.03.2022\, 08:30 – 21:00A7 – Sonntag\, 20.03.2022\, 08:30 – 13:30\n\n\nAdresse\n5020 Salzburg\, Hellbrunnerstr. 13 b (Referat für ehe und Familie)\n\n\nVeranstalter\nReferat für ehe und Familie in Zusammenarbeit mit INER Rötzer e.V.\n\n\nAuskunft\nMag. Maria Eisl\, 0650/2273397\, maria.eisl@ehe-familie.at\n\n\nTelefon\n0650/2273397\n\n\nE-Mail\nmaria.eisl@ehe-familie.at\n\n\nReferent(en)\nMag. Maria und Heinrich Eisl\nMaria und Richard Büchsenmeister\nMMag. Johannes und Iris Bucher MSc.\nTatjana und DI Andreas Schnegg\nManuela und Christian Fletschberger\nMonika Kastner\nAbschlusswochenende mit Elisabeth Rötzer\, INER Präsidentin\, und Prof. Dr. Helmut Prader\n\n\nBesonderes\nKursbeitrag: Pauschalbeitrag für zehn Studientage\n€ 260\,- für EP\, € 350\,- für Ehepaare/Brautpaare\nzzgl. Unkostenmaterial pro Person € 48\,-\nAnmeldung bei Mag. Maria Eisl erforderlich\nGrundkurseinschulung am 09.04.2022\n\n\n\n
URL:http://www.xn--empfngnis-y2a.com/veranstaltung/5020-salzburg-aufbaulehrgang-natuerliche-empfaengnisregelung-ner-mit-zertifikat-neue-termine-copy-2/
LOCATION: Dreifaltigkeitsgasse 12\, Salzburg\, 5020\, Österreich
GEO:47.802811;13.0449422
X-APPLE-STRUCTURED-LOCATION;VALUE=URI;X-ADDRESS=Dreifaltigkeitsgasse 12 Salzburg 5020 Österreich;X-APPLE-RADIUS=500;X-TITLE=Dreifaltigkeitsgasse 12:geo:13.0449422,47.802811
END:VEVENT
END:VCALENDAR