BEGIN:VCALENDAR
VERSION:2.0
PRODID:-//empfängnis.com - ECPv4.6.2//NONSGML v1.0//EN
CALSCALE:GREGORIAN
METHOD:PUBLISH
X-WR-CALNAME:empfängnis.com
X-ORIGINAL-URL:http://www.xn--empfngnis-y2a.com
X-WR-CALDESC:Events for empfängnis.com
BEGIN:VEVENT
DTSTART;TZID=Europe/Berlin:20160910T083000
DTEND;TZID=Europe/Berlin:20160910T180000
DTSTAMP:20260422T020035
CREATED:20160308T144455Z
LAST-MODIFIED:20160308T151523Z
UID:792-1473496200-1473530400@www.xn--empfngnis-y2a.com
SUMMARY:5020 Salzburg - Aufbaulehrgang Natürliche Empfängnisregelung mit Zertifikatserwerb
DESCRIPTION:
URL:http://www.xn--empfngnis-y2a.com/veranstaltung/5020-salzburg-aufbaulehrgang-natuerliche-empfaengnisregelung-mit-zertifikatserwerb/
END:VEVENT
END:VCALENDAR