BEGIN:VCALENDAR
VERSION:2.0
PRODID:-//empfängnis.com - ECPv4.6.2//NONSGML v1.0//EN
CALSCALE:GREGORIAN
METHOD:PUBLISH
X-WR-CALNAME:empfängnis.com
X-ORIGINAL-URL:http://www.xn--empfngnis-y2a.com
X-WR-CALDESC:Events for empfängnis.com
BEGIN:VEVENT
DTSTART;TZID=Europe/Berlin:20190308T140000
DTEND;TZID=Europe/Berlin:20190310T130000
DTSTAMP:20260420T200750
CREATED:20190117T115021Z
LAST-MODIFIED:20190117T115258Z
UID:2387-1552053600-1552222800@www.xn--empfngnis-y2a.com
SUMMARY:5020 Salzburg - 16. Salzburger Aufbaulehrgang Natürliche Empfängnisregelung mit Zertifikatserwerb  A7
DESCRIPTION:5020 Salzburg – 16. Salzburger Aufbaulehrgang Natürliche Empfängnisregelung mit Zertifikatserwerb\n\n\n\n\nKursart\nAufbaulehrgang mit Zertifikatserwerb\n\n\nTermine\nA1 – Samstag\, 15.09.2018\, 08:30 – 18:00A2 – Samstag\, 13.10.2018\, 08:30 – 18:00A3 – Samstag\, 10.11.2018\, 08:30 – 18:00A4 – Samstag\, 15.12.2018\, 08:30 – 18:00A5 – Samstag\, 12.01.2019\, 08:30 – 18:00A6 – Samstag\, 16.02.2019\, 08:30 – 18:00A7 – Freitag\, 08.03.2019\, 14:00 – 22:00A7 – Samstag\, 09.03.2019\, 09:00 – 18:00A7 – Sonntag\, 10.03.2019\, 09:00 – 13:00GF – Samstag\, 06.04.2019\, 09:00 – 13:00\n\n\nAdresse\n5020 Salzburg\, Eduard Heinrich Str. 2; Eduard Heinrich Haus\n\n\nVeranstalter\nReferat für Ehe und Familie der Erzdiözese Salzburg in Zusammenarbeit mit INER\n\n\nAuskunft\nMag. Maria Eisl\nReferat für Ehe und Familie\nDreifaltigkeitsgasse 12\n5020 Salzburg\n\n\nTelefon\n0043 (0)662 879613-12\n\n\nE-Mail\nmaria.eisl@familie.kirchen.net\n\n\nReferent(en)\nMag. Maria und Heinrich Eisl\nManuela und Christian Fletschberger\nTatjana und Andreas Schnegg\nMaria und Richard Büchsenmeister\nDoris und Michael Szedlacek\nMonika KastnerAbschlusswochenende:\nINER Präsidentin Elisabeth Rötzer\nWB Dr. Andreas Laun; Lic. Maria Prügl\n\n\nBesonderes\nPauschalbeitrag für 10 Studientage:\n€ 250 für Einzelperson\n€ 320 für Ehepaar\nzzgl. Unkosten für Kursmaterial € 48\,– pro PersonDie erste Hälfte des Kursbeitrages ist zum Ausbildungsbeginn zu entrichten. Die zweite Hälfte des Kursbeitrages im Jänner 2019\, Die Mahlzeiten sind direkt vor Ort zu bezahlen\, ebenso die Unterbringungskosten beim Abschlusswochenende.Abschlusswochenende Gasthof Jagerwirt in 5330 Fuschl am See\, Ellmaustr. 53\n\n\n\n\n
URL:http://www.xn--empfngnis-y2a.com/veranstaltung/5020-salzburg-16-salzburger-aufbaulehrgang-natuerliche-empfaengnisregelung-mit-zertifikatserwerb-copy-copy/
END:VEVENT
END:VCALENDAR