BEGIN:VCALENDAR
VERSION:2.0
PRODID:-//empfängnis.com - ECPv4.6.2//NONSGML v1.0//EN
CALSCALE:GREGORIAN
METHOD:PUBLISH
X-WR-CALNAME:empfängnis.com
X-ORIGINAL-URL:http://www.xn--empfngnis-y2a.com
X-WR-CALDESC:Events for empfängnis.com
BEGIN:VEVENT
DTSTART;TZID=Europe/Berlin:20170511T190000
DTEND;TZID=Europe/Berlin:20170511T203000
DTSTAMP:20260421T121609
CREATED:20170404T142646Z
LAST-MODIFIED:20170404T142723Z
UID:1704-1494529200-1494534600@www.xn--empfngnis-y2a.com
SUMMARY:4851 Gampern; NER Grundkurs G4
DESCRIPTION:\n\n\nKursart\n4 Abende\n\n\nTermine\nG1 – Donnerstag\, 20.04.2017\, 19:00 – 20:30G2 – Donnerstag\, 27.04.2017\, 19:00 – 20:30G3 – Donnerstag\, 04.05.2017\, 19:00 – 20:30G4 – Donnerstag\, 11.05.2017\, 19:00 – 20:30\n\n\nAdresse\n4851 gampern\, Bierbaum 44\n\n\nVeranstalter\nPetra Spitzbart\n\n\nAuskunft\nPetra Spitzbart\n0699/11431277\n\n\nTelefon\n069911431277\n\n\nE-Mail\npetra@spitzbart.co.at\n\n\nReferent(en)\nPetra Spitzbart\n\n\nBesonderes\nBitte rote Seiten aus dem Buch\n„Natürliche Empfängnisregelung“ Die sympto-thermale Methode lesen.\nStarterset mit Buch\, Thermometer und Tabellen kann beim Kurs erworben werden\noder vorher unter www.ehefamiliebuch.at\n\n\n\n
URL:http://www.xn--empfngnis-y2a.com/veranstaltung/4851-gampern-ner-grundkurs-copy-copy-copy/
LOCATION:Bierbaum 44\, Gampern\, 4851\, Österreich
GEO:48.0020262;13.5364864
X-APPLE-STRUCTURED-LOCATION;VALUE=URI;X-ADDRESS=Bierbaum 44 Gampern 4851 Österreich;X-APPLE-RADIUS=500;X-TITLE=Bierbaum 44:geo:13.5364864,48.0020262
END:VEVENT
END:VCALENDAR