BEGIN:VCALENDAR
VERSION:2.0
PRODID:-//empfängnis.com - ECPv4.6.2//NONSGML v1.0//EN
CALSCALE:GREGORIAN
METHOD:PUBLISH
X-WR-CALNAME:empfängnis.com
X-ORIGINAL-URL:http://www.xn--empfngnis-y2a.com
X-WR-CALDESC:Events for empfängnis.com
BEGIN:VEVENT
DTSTART;TZID=Europe/Berlin:20211020T190000
DTEND;TZID=Europe/Berlin:20211020T210000
DTSTAMP:20260419T153531
CREATED:20210917T201049Z
LAST-MODIFIED:20210917T201131Z
UID:2810-1634756400-1634763600@www.xn--empfngnis-y2a.com
SUMMARY:4840 Vöcklabruck - Pille\, Spirale und Co. - Gibt es Alternativen?
DESCRIPTION:\n\n\nAllgemeine Infos über NER\n\n\nTermine\nINFO – Mittwoch\, 20.10.2021\, 19:00 – 21:05\n\n\nAdresse\n4840 Vöcklabruck\, VHS-AK Vöcklabruck\, Ferdinand-Öttl-Straße 19\n\n\nVeranstalter\nVHS-AK Vöcklabruck\n\n\nAuskunft\nDI Anne Kapeller\, 050 / 6906 5229 oder 0676 / 84 55 00 503 \nMonika Kastner\, 07672 / 21343\n\n\nTelefon\n050 6906 5229\n\n\nE-Mail\nvoecklabruck@vhsooe.at\n\n\nReferent(en)\nMonika Kastner\n\n\nBesonderes\nKein Kursbeitrag\n\n\n\n
URL:http://www.xn--empfngnis-y2a.com/veranstaltung/4840-voecklabruck-pille-spirale-und-co-gibt-es-alternativen/
END:VEVENT
END:VCALENDAR