BEGIN:VCALENDAR
VERSION:2.0
PRODID:-//empfängnis.com - ECPv4.6.2//NONSGML v1.0//EN
CALSCALE:GREGORIAN
METHOD:PUBLISH
X-WR-CALNAME:empfängnis.com
X-ORIGINAL-URL:http://www.xn--empfngnis-y2a.com
X-WR-CALDESC:Events for empfängnis.com
BEGIN:VEVENT
DTSTART;TZID=Europe/Berlin:20220119T170000
DTEND;TZID=Europe/Berlin:20220119T210000
DTSTAMP:20260419T124603
CREATED:20210917T203757Z
LAST-MODIFIED:20210917T203757Z
UID:2830-1642611600-1642626000@www.xn--empfngnis-y2a.com
SUMMARY:4840 Vöcklabruck - Lebensphase Wechseljahre
DESCRIPTION:\n\n\nKursart\nSpezielle Veranstaltung\n\n\nTermine\nSPEZ – Mittwoch\, 19.01.2022\, 17:00 – 21:10\n\n\nAdresse\n4840 Vöcklabruck\, VHS-AK Vöcklabruck\, Ferdinand-Öttl-Straße 19\n\n\nVeranstalter\nVHS-AK Vöcklabruck\, Ferdinand-Öttl-Straße 19\n\n\nAuskunft\nDI Anne Kapeller\, 0676 / 84 55 00 503 \nMonika Kastner\, 07672 / 21343\n\n\nTelefon\n050 6906 5229\n\n\nE-Mail\nvoecklabruck@vhsooe.at\n\n\nReferent(en)\nMonika Kastner\n\n\nBesonderes\nKein Kursbeitrag\n\n\n\n
URL:http://www.xn--empfngnis-y2a.com/veranstaltung/4840-voecklabruck-lebensphase-wechseljahre/
LOCATION:Ferdinand-Öttl-Straße 19\, Vöcklabruck\, 4840\, Österreich
END:VEVENT
END:VCALENDAR