BEGIN:VCALENDAR
VERSION:2.0
PRODID:-//empfängnis.com - ECPv4.6.2//NONSGML v1.0//EN
CALSCALE:GREGORIAN
METHOD:PUBLISH
X-WR-CALNAME:empfängnis.com
X-ORIGINAL-URL:http://www.xn--empfngnis-y2a.com
X-WR-CALDESC:Events for empfängnis.com
BEGIN:VEVENT
DTSTART;TZID=Europe/Berlin:20171107T180000
DTEND;TZID=Europe/Berlin:20171107T220000
DTSTAMP:20260421T134558
CREATED:20171021T132600Z
LAST-MODIFIED:20171021T132600Z
UID:1991-1510077600-1510092000@www.xn--empfngnis-y2a.com
SUMMARY:4840 Vöcklabruck\, Infoabend über NER
DESCRIPTION:\n\n\nKursart\nInfo-Abend\n\n\nTermine\nINFO – Dienstag\, 07.11.2017\, 18:00 – 22:00\n\n\nAdresse\n4840 Vöcklabruck\, Ferdinand-Öttl-Straße 19\n\n\nVeranstalter\nVolkshochschule der Arbeiterkammer\n\n\nAuskunft\n05 069 06\n\n\nTelefon\n05 069 06\n\n\nE-Mail\nganglberger.u@akooe.at\n\n\nReferent(en)\nMonika Kastner\n\n\nBesonderes\nAnmeldung unbedingt erforderlich\n\n\n\n
URL:http://www.xn--empfngnis-y2a.com/veranstaltung/4840-voecklabruck-infoabend-ueber-ner/
LOCATION:Ferdinand-Öttl-Straße\, Vöcklabruck\, 4840\, Österreich
GEO:48.0049328;13.6512764
X-APPLE-STRUCTURED-LOCATION;VALUE=URI;X-ADDRESS=Ferdinand-Öttl-Straße Vöcklabruck 4840 Österreich;X-APPLE-RADIUS=500;X-TITLE=Ferdinand-Öttl-Straße:geo:13.6512764,48.0049328
END:VEVENT
END:VCALENDAR