BEGIN:VCALENDAR
VERSION:2.0
PRODID:-//empfängnis.com - ECPv4.6.2//NONSGML v1.0//EN
CALSCALE:GREGORIAN
METHOD:PUBLISH
X-WR-CALNAME:empfängnis.com
X-ORIGINAL-URL:http://www.xn--empfngnis-y2a.com
X-WR-CALDESC:Events for empfängnis.com
BEGIN:VEVENT
DTSTART;TZID=Europe/Berlin:20210929T190000
DTEND;TZID=Europe/Berlin:20210929T210000
DTSTAMP:20260419T172503
CREATED:20210917T200904Z
LAST-MODIFIED:20210917T200904Z
UID:2807-1632942000-1632949200@www.xn--empfngnis-y2a.com
SUMMARY:4840 Vöcklabruck - Frauengesundheit durch gynäkologische Kompetenz
DESCRIPTION:\n\n\nKursart\nSpezielle Veranstaltung\n\n\nTermine\nSPEZ – Mittwoch\, 29.09.2021\, 19:00 – 21:05\n\n\nAdresse\n4840 Vöcklabruck\, VHS-AK Vöcklabruck\, Ferdinand-Öttl-Straße 19\n\n\nVeranstalter\nVHS-AK Vöcklabruck\n\n\nAuskunft\nDI Anne Kapeller 0676 / 84 55 00 503\nvoecklabruck@vhsooe.at \nMonika Kastner 07672 / 21343\n\n\nTelefon\n050 6906 5229\n\n\nReferent(en)\nMonika Kastner\n\n\nBesonderes\nAus organisatorischen Gründen bitte unbedingt anmelden\n\n\n\n
URL:http://www.xn--empfngnis-y2a.com/veranstaltung/4840-voecklabruck-frauengesundheit-durch-gynaekologische-kompetenz/
LOCATION:Ferdinand-Öttl-Straße 19\, Vöcklabruck\, 4840\, Österreich
END:VEVENT
END:VCALENDAR